BEGIN:VCALENDAR
VERSION:2.0
PRODID:https://github.com/derhansen/sf_event_mgt
METHOD:PUBLISH
BEGIN:VEVENT
UID:85-22@www.vs-arbing.at
CLASS: PUBLIC
SUMMARY:Schwimmen
DESCRIPTION:
DTSTAMP:20251110T122720Z
DTSTART:20260430T081500Z
DTEND:20260430T113500Z
END:VEVENT
END:VCALENDAR
