BEGIN:VCALENDAR
VERSION:2.0
PRODID:https://github.com/derhansen/sf_event_mgt
METHOD:PUBLISH
BEGIN:VEVENT
UID:108-22@www.vs-arbing.at
CLASS: PUBLIC
SUMMARY:Landesfinale Leseolympiade
DESCRIPTION:4. Klasse
DTSTAMP:20260306T100515Z
DTSTART:20260423T120000Z
DTEND:20260423T180000Z
END:VEVENT
END:VCALENDAR
