BEGIN:VCALENDAR
VERSION:2.0
PRODID:https://github.com/derhansen/sf_event_mgt
METHOD:PUBLISH
BEGIN:VEVENT
UID:99-22@www.vs-arbing.at
CLASS: PUBLIC
SUMMARY:BUS-Schule
DESCRIPTION:1. und 2. Klasse
DTSTAMP:20260112T062940Z
DTSTART:20260518T075000Z
DTEND:20260518T113000Z
END:VEVENT
END:VCALENDAR
